BEGIN:VCALENDAR
VERSION:2.0
PRODID:-//Limestone Coast Red Meat Cluster - ECPv4.6.18//NONSGML v1.0//EN
CALSCALE:GREGORIAN
METHOD:PUBLISH
X-WR-CALNAME:Limestone Coast Red Meat Cluster
X-ORIGINAL-URL:http://limestonecoastredmeat.com.au
X-WR-CALDESC:Events for Limestone Coast Red Meat Cluster
BEGIN:VEVENT
DTSTART;TZID=Australia/Adelaide:20190220T080000
DTEND;TZID=Australia/Adelaide:20190221T170000
DTSTAMP:20190227T015450
CREATED:20180913T065421Z
LAST-MODIFIED:20180913T065421Z
UID:1574-1550649600-1550768400@limestonecoastredmeat.com.au
SUMMARY:Board rounds: Improving your farm business profitability- it's all in your taxation accounts
DESCRIPTION:DOWNLOAD THE FLYER \nDOWNLOAD THE REGISTRATION FORM \n
URL:http://limestonecoastredmeat.com.au/event/board-rounds-improving-your-farm-business-profitability-its-all-in-your-taxation-accounts/
LOCATION:Smith Street\, Naracoorte\, SA\, 5271\, Australia
END:VEVENT
END:VCALENDAR