BEGIN:VCALENDAR
VERSION:2.0
PRODID:-//Limestone Coast Red Meat Cluster - ECPv4.6.18//NONSGML v1.0//EN
CALSCALE:GREGORIAN
METHOD:PUBLISH
X-WR-CALNAME:Limestone Coast Red Meat Cluster
X-ORIGINAL-URL:http://limestonecoastredmeat.com.au
X-WR-CALDESC:Events for Limestone Coast Red Meat Cluster
BEGIN:VEVENT
DTSTART;TZID=Australia/Adelaide:20190212T090000
DTEND;TZID=Australia/Adelaide:20190212T170000
DTSTAMP:20190227T015016
CREATED:20180913T064931Z
LAST-MODIFIED:20180913T065432Z
UID:1567-1549962000-1549990800@limestonecoastredmeat.com.au
SUMMARY:Workshop 1: Improving your farm business profitability- it's all in your taxation accounts
DESCRIPTION:DOWNLOAD THE FLYER \nDOWNLOAD THE REGISTRATION FORM \n  \n
URL:http://limestonecoastredmeat.com.au/event/workshop-1-improving-your-farm-business-profitability-its-all-in-your-taxation-accounts/
LOCATION:Smith Street\, Naracoorte\, SA\, 5271\, Australia
END:VEVENT
END:VCALENDAR